BEGIN:VCALENDAR
METHOD:PUBLISH
VERSION:2.0
CALSCALE:GREGORIAN
PRODID:-//NONSGML WPForms//NONSGML Sugar Calendar Feeds v3.11.0//EN
X-WR-CALNAME:Worship-Service
X-WR-CALDESC:First Presbyterian Church Altadena
X-WR-TIMEZONE:America/Los_Angeles
BEGIN:VTIMEZONE
TZID:America/Los_Angeles
BEGIN:STANDARD
TZOFFSETFROM:-0700
TZOFFSETTO:-0800
DTSTART:20251102T090000
TZNAME:PST
END:STANDARD
BEGIN:DAYLIGHT
TZOFFSETFROM:-0800
TZOFFSETTO:-0700
DTSTART:20260308T100000
TZNAME:PDT
END:DAYLIGHT
END:VTIMEZONE
BEGIN:VTIMEZONE
TZID:America/Los_Angeles
BEGIN:STANDARD
TZOFFSETFROM:-0700
TZOFFSETTO:-0800
DTSTART:20251102T090000
TZNAME:PST
END:STANDARD
BEGIN:DAYLIGHT
TZOFFSETFROM:-0800
TZOFFSETTO:-0700
DTSTART:20260308T100000
TZNAME:PDT
END:DAYLIGHT
END:VTIMEZONE
BEGIN:VEVENT
SUMMARY:Worship Service
DESCRIPTION:
URL;VALUE=URI:https://firstpresbyterianchurchaltadena.org/sc_recurring_e
 vent/worship-service/
UID:urn:uuid:c85f6ba4-9f02-4286-bbfd-5881e7c3f347
STATUS:CONFIRMED
ORGANIZER:
DTSTAMP:20260422T181240Z
DTSTART;TZID=America/Los_Angeles:20260405T103000
DTEND;TZID=America/Los_Angeles:20260405T113000
RRULE:FREQ=WEEKLY;INTERVAL=1
END:VEVENT
END:VCALENDAR