BEGIN:VCALENDAR
METHOD:PUBLISH
VERSION:2.0
CALSCALE:GREGORIAN
PRODID:-//NONSGML WPForms//NONSGML Sugar Calendar Feeds v3.11.0//EN
X-WR-CALNAME:Worship-Check-in
X-WR-CALDESC:First Presbyterian Church Altadena
X-WR-TIMEZONE:America/Los_Angeles
BEGIN:VTIMEZONE
TZID:America/Los_Angeles
BEGIN:DAYLIGHT
TZOFFSETFROM:-0700
TZOFFSETTO:-0700
DTSTART:20260422T023000
TZNAME:PDT
END:DAYLIGHT
END:VTIMEZONE
BEGIN:VTIMEZONE
TZID:America/Los_Angeles
BEGIN:DAYLIGHT
TZOFFSETFROM:-0700
TZOFFSETTO:-0700
DTSTART:20260422T023000
TZNAME:PDT
END:DAYLIGHT
END:VTIMEZONE
BEGIN:VEVENT
SUMMARY:Worship Check-in
DESCRIPTION:
URL;VALUE=URI:https://firstpresbyterianchurchaltadena.org/sc_recurring_e
 vent/worship-check-in/
UID:urn:uuid:bf179661-935b-4f45-88ee-1161c68f444a
STATUS:CONFIRMED
ORGANIZER:
DTSTAMP:20260422T180935Z
DTSTART;TZID=America/Los_Angeles:20261021T143000
DTEND;TZID=America/Los_Angeles:20261021T151500
RRULE:FREQ=WEEKLY;INTERVAL=1
END:VEVENT
END:VCALENDAR