BEGIN:VCALENDAR
METHOD:PUBLISH
VERSION:2.0
CALSCALE:GREGORIAN
PRODID:-//NONSGML WPForms//NONSGML Sugar Calendar Feeds v3.11.0//EN
X-WR-CALNAME:Sr-Smarties-ExerciseKaraoke
X-WR-CALDESC:First Presbyterian Church Altadena
X-WR-TIMEZONE:America/Los_Angeles
BEGIN:VTIMEZONE
TZID:America/Los_Angeles
BEGIN:STANDARD
TZOFFSETFROM:-0700
TZOFFSETTO:-0800
DTSTART:20251102T090000
TZNAME:PST
END:STANDARD
BEGIN:DAYLIGHT
TZOFFSETFROM:-0800
TZOFFSETTO:-0700
DTSTART:20260308T100000
TZNAME:PDT
END:DAYLIGHT
END:VTIMEZONE
BEGIN:VTIMEZONE
TZID:America/Los_Angeles
BEGIN:STANDARD
TZOFFSETFROM:-0700
TZOFFSETTO:-0800
DTSTART:20251102T090000
TZNAME:PST
END:STANDARD
BEGIN:DAYLIGHT
TZOFFSETFROM:-0800
TZOFFSETTO:-0700
DTSTART:20260308T100000
TZNAME:PDT
END:DAYLIGHT
END:VTIMEZONE
BEGIN:VEVENT
SUMMARY:Sr Smarties Exercise/Karaoke
DESCRIPTION:
URL;VALUE=URI:https://firstpresbyterianchurchaltadena.org/sc_recurring_e
 vent/sr-smarties-exercise-karaoke/
UID:urn:uuid:3033667a-a93b-4c77-a526-8ee76f2e16c8
STATUS:CONFIRMED
ORGANIZER:
DTSTAMP:20260422T144030Z
DTSTART;TZID=America/Los_Angeles:20260424T103000
DTEND;TZID=America/Los_Angeles:20260424T113000
RRULE:FREQ=WEEKLY;INTERVAL=1;UNTIL=20260601T235959Z
END:VEVENT
END:VCALENDAR