BEGIN:VCALENDAR
METHOD:PUBLISH
VERSION:2.0
CALSCALE:GREGORIAN
PRODID:-//NONSGML WPForms//NONSGML Sugar Calendar Feeds v3.11.0//EN
X-WR-CALNAME:Sr-Smarties-Crafts
X-WR-CALDESC:First Presbyterian Church Altadena
X-WR-TIMEZONE:America/Los_Angeles
BEGIN:VTIMEZONE
TZID:America/Los_Angeles
BEGIN:DAYLIGHT
TZOFFSETFROM:-0800
TZOFFSETTO:-0700
DTSTART:20260308T100000
TZNAME:PDT
END:DAYLIGHT
END:VTIMEZONE
BEGIN:VTIMEZONE
TZID:America/Los_Angeles
BEGIN:DAYLIGHT
TZOFFSETFROM:-0800
TZOFFSETTO:-0700
DTSTART:20260308T100000
TZNAME:PDT
END:DAYLIGHT
END:VTIMEZONE
BEGIN:VEVENT
SUMMARY:Sr Smarties Crafts
DESCRIPTION:
URL;VALUE=URI:https://firstpresbyterianchurchaltadena.org/sc_recurring_e
 vent/sr-smarties-crafts/
UID:urn:uuid:966a8d83-85c1-44d7-97a4-10f005e5c862
STATUS:CONFIRMED
ORGANIZER:
DTSTAMP:20260422T162920Z
DTSTART;TZID=America/Los_Angeles:20260515T123000
DTEND;TZID=America/Los_Angeles:20260515T150000
RRULE:FREQ=WEEKLY;INTERVAL=1;UNTIL=20260601T235959Z
END:VEVENT
END:VCALENDAR