BEGIN:VCALENDAR
METHOD:PUBLISH
VERSION:2.0
CALSCALE:GREGORIAN
PRODID:-//NONSGML WPForms//NONSGML Sugar Calendar Feeds v3.11.0//EN
X-WR-CALNAME:Sr-Smarties-Crafts
X-WR-CALDESC:First Presbyterian Church Altadena
X-WR-TIMEZONE:America/Los_Angeles
BEGIN:VTIMEZONE
TZID:America/Los_Angeles
BEGIN:STANDARD
TZOFFSETFROM:-0700
TZOFFSETTO:-0800
DTSTART:20251102T090000
TZNAME:PST
END:STANDARD
END:VTIMEZONE
BEGIN:VTIMEZONE
TZID:America/Los_Angeles
BEGIN:STANDARD
TZOFFSETFROM:-0700
TZOFFSETTO:-0800
DTSTART:20251102T090000
TZNAME:PST
END:STANDARD
END:VTIMEZONE
BEGIN:VEVENT
SUMMARY:Sr Smarties Crafts
DESCRIPTION:
URL;VALUE=URI:https://firstpresbyterianchurchaltadena.org/sc_recurring_e
 vent/sr-smarties-crafts/
UID:urn:uuid:966a8d83-85c1-44d7-97a4-10f005e5c862
STATUS:CONFIRMED
ORGANIZER:
DTSTAMP:20260422T181754Z
DTSTART;TZID=America/Los_Angeles:20260130T123000
DTEND;TZID=America/Los_Angeles:20260130T150000
RRULE:FREQ=WEEKLY;INTERVAL=1;UNTIL=20260601T235959Z
END:VEVENT
END:VCALENDAR